BEGIN:VCALENDAR
VERSION:2.0
PRODID:-//Netzwerk &quot;Nachhaltigkeit in der Wirtschaft&quot; - ECPv6.0.9//NONSGML v1.0//EN
CALSCALE:GREGORIAN
METHOD:PUBLISH
X-WR-CALNAME:Netzwerk &quot;Nachhaltigkeit in der Wirtschaft&quot;
X-ORIGINAL-URL:https://nachhaltig-wirtschaften-mitteldeutschland.de/startseite
X-WR-CALDESC:Veranstaltungen für Netzwerk &quot;Nachhaltigkeit in der Wirtschaft&quot;
REFRESH-INTERVAL;VALUE=DURATION:PT1H
X-Robots-Tag:noindex
X-PUBLISHED-TTL:PT1H
BEGIN:VTIMEZONE
TZID:Europe/Berlin
BEGIN:DAYLIGHT
TZOFFSETFROM:+0100
TZOFFSETTO:+0200
TZNAME:CEST
DTSTART:20210328T010000
END:DAYLIGHT
BEGIN:STANDARD
TZOFFSETFROM:+0200
TZOFFSETTO:+0100
TZNAME:CET
DTSTART:20211031T010000
END:STANDARD
END:VTIMEZONE
BEGIN:VEVENT
DTSTART;TZID=Europe/Berlin:20210603T140000
DTEND;TZID=Europe/Berlin:20210603T160000
DTSTAMP:20260421T175646
CREATED:20210317T091939Z
LAST-MODIFIED:20210507T075308Z
UID:674-1622728800-1622736000@nachhaltig-wirtschaften-mitteldeutschland.de
SUMMARY:4. Netzwerktreffen
DESCRIPTION:Wir laden Sie herzlich ein zum 4. Netzwerktreffen am 3. Juni 14-16 Uhr\, diesmal zum Thema „Regionale Wirtschaftskreisläufe“. Mehrere Netzwerkpartner stellen dazu vor: Einen Impuls zu &#8222;Regionalsiegel\, Regionalitätsstrategie und Prosumenten&#8220;  gibt Frank Ernst von Netzwerk Zukunft Sachsen-Anhalt e.V.\, das interkommunale Forschungsprojekt InterPyro (Biomassepyrolyse zur Bodenverbesserung auf kommunalen Flächen) wird von der RKW GmbH und der Energieavantgarde Anhalt e.V. vorgestellt\, außerdem gibt Herr Ehrich einen Einblick in den Bau von Strohhäusern und die Entwicklung von mannshohen Stroh-/Holzbausteinen. Schließlich gibt es wieder die Möglichkeit zum gegenseitigen Kennenlernen in den „Kaffeerunden“ und Austausch im Netzwerk. \nBitte melden Sie sich dazu mit dem Kontaktformular unter Angabe der Veranstaltung an\, Tagesordnung in der Anlage. Die Zugangsdaten zur Onlinekonferenz werden dann zugesandt. \nWir freuen uns auf Ihre Teilnahme. \nIhr Kernteam\nNetzwerkes Nachhaltigkeit in der Wirtschaft \n4. Netzwerktreffen Tagesordnung
URL:https://nachhaltig-wirtschaften-mitteldeutschland.de/startseite/event/4-netzwerktreffen/
LOCATION:Online
END:VEVENT
BEGIN:VEVENT
DTSTART;TZID=Europe/Berlin:20210609T140000
DTEND;TZID=Europe/Berlin:20210609T160000
DTSTAMP:20260421T175646
CREATED:20210507T095112Z
LAST-MODIFIED:20210507T095112Z
UID:904-1623247200-1623254400@nachhaltig-wirtschaften-mitteldeutschland.de
SUMMARY:Artenvielfalt als Story für Direktvermarkter und Kunden - Storch\, Feldlerche und Kiebitz
DESCRIPTION:Am 9. Juni\, 14-16 Uhr laden wir Sie herzlich ein\, an unserem Workshop „Artenvielfalt als Story für Direktvermarkter und Kunden“ online teilzunehmen. \nWir wollen darin der Frage nachgehen\, wie der Kunde den Mehrwert von Produkten erkennt\, welche artenreiche Ökosysteme fördern und wie der Landwirt das auch für Laien verständlich zeigen kann. Wir haben für den Workshop als Startpunkt drei erste prominente Zielarten bzw. Stellvertreterarten herausgesucht\, die zum einen für Strukturreichtum und artenreiche Ökosysteme in der Agrarlandschaft stehen sowie auch Laien bekannt sind. Diese sind ebenfalls in unserer Kultur verwurzelt: Storch\, Feldlerche und Kiebitz. \nGemeinsam mit Ihnen wollen wir am 9. Juni eine Story/Kampagne entwickeln\, welche die Antwort auf obige Frage transportiert. Neben der Definition von Maßnahmen\, welche die Lebensbedingungen dieser Arten verbessern\, sollen einfache Erkennungsmerkmale dieser Maßnahmen für den Laien herausgearbeitet werden. Der Mehrwert für die Region sowie kulturelle Beziehungen sind hervorzuheben. Dazu kommen Fragen der Sichtbarkeit bzw. des Marketings und Rückkopplungsmöglichkeiten für Kunden und Landwirte. \nBitte melden Sie sich unter Kontakt mit Angabe der Veranstaltung an\, der Zugangslink wird dann vorab zugesandt. Weitere Informationen finden Sie in der hier: Workshop Artenvielfalt als Story für Direktvermarkter und Kunden &#8211; Storch\, Kiebitz\, Feldlerche \nWir freuen uns auf eine spannende Diskussion! \nIhre Denkgruppe Biodiversität
URL:https://nachhaltig-wirtschaften-mitteldeutschland.de/startseite/event/artenvielfalt-als-story-fuer-direktvermarkter-und-kunden-storch-feldlerche-und-kiebitz/
LOCATION:Online
END:VEVENT
END:VCALENDAR