BEGIN:VCALENDAR
VERSION:2.0
PRODID:-//Netzwerk &quot;Nachhaltigkeit in der Wirtschaft&quot; - ECPv6.0.9//NONSGML v1.0//EN
CALSCALE:GREGORIAN
METHOD:PUBLISH
X-ORIGINAL-URL:https://nachhaltig-wirtschaften-mitteldeutschland.de/startseite
X-WR-CALDESC:Veranstaltungen für Netzwerk &quot;Nachhaltigkeit in der Wirtschaft&quot;
REFRESH-INTERVAL;VALUE=DURATION:PT1H
X-Robots-Tag:noindex
X-PUBLISHED-TTL:PT1H
BEGIN:VTIMEZONE
TZID:Europe/Berlin
BEGIN:DAYLIGHT
TZOFFSETFROM:+0100
TZOFFSETTO:+0200
TZNAME:CEST
DTSTART:20200329T010000
END:DAYLIGHT
BEGIN:STANDARD
TZOFFSETFROM:+0200
TZOFFSETTO:+0100
TZNAME:CET
DTSTART:20201025T010000
END:STANDARD
END:VTIMEZONE
BEGIN:VEVENT
DTSTART;TZID=Europe/Berlin:20201006T130000
DTEND;TZID=Europe/Berlin:20201006T160000
DTSTAMP:20260422T044025
CREATED:20200928T074036Z
LAST-MODIFIED:20210217T101841Z
UID:100-1601989200-1602000000@nachhaltig-wirtschaften-mitteldeutschland.de
SUMMARY:Workshop „Innovationsmotor Nachhaltigkeit – Wir können Ökonomie besser“
DESCRIPTION:Rückblick: \nUnternehmerische Nachhaltigkeit – Wie wird das in unserer Region gelebt? Welche Lösungen für nachhaltigere Produkte\, Prozesse und Geschäftsmodelle gibt es bei uns? \nDas Netzwerk Nachhaltigkeit in der Wirtschaft in Mitteldeutschland will diese Aktivitäten sichtbar machen. Im Workshop „Innovationsmotor Nachhaltigkeit – Wir können Ökonomie besser“ zeigten regionale Unternehmen unterschiedlicher Größen und Branchen in fünfminütigen Interviews die vielfältigen Facetten auf\, wie sie dieses Thema angehen. \nWichtig sind uns übertragbare Anwendungsbeispiele aus Unternehmen in Mitteldeutschland\, an deren wegweisenden Ideen sich andere orientieren können\, um das nachhaltige Wirtschaften zur Zukunftssicherung des eigenen Betriebs sowie die Wirkung auf das Gemeinwesen zu optimieren und zukunftsfähiger zu gestalten. Ziele des Netzwerkes sind\, Synergien nutzbar zu machen\, den Austausch zu stärken und Ideen für nachhaltigeres Wirtschaften zu sammeln und zu verbreiten. \nInterviews: \n\nmit Maria Gottwalt\, kunZstoffe – urbane Ideenwerkstatt e.V.\n\nÜber: das Potential in Menschen und Resten –Kreislauf von Kunst\, Bildung und Reststoffen – Werte und handwerkliche Fertigkeiten \n\nmit Dr. Götz Meister\, Mobility Center GmbH – teilAuto Sachsen-Anhalt\n\nÜber: Vom Verein zur GmbH oder von den Grundbedürfnissen und Skalierungseffekten – Gemeinwohlbilanz für die Erweiterung der Sicht – Berücksichtigung von ökologischen und sozialen Belangen ohne Gewinnmaximierungspflicht \n\nmit Sören Thiering\, neXcube (in Gründung)\n\nÜber: Kurze Entwicklungszeiten und schnell an den Markt – Papierloses Arbeiten mit repowerten Altgeräten – günstiges und anpassungsfähiges Labormanagement 4.0 mit 3D-Druck \n\nmit Bernhard Schipper\, Scobytec GmbH\n\nÜber: 97% weniger Wasser und alles ohne Abfall – neues Plattformmaterial regional hergestellt – Durchhaltevermögen inklusive Familienfreundlichkeit und Gleichberechtigung \n\nmit Prof. Eduard Siemens\, SmartLighting UG\n\nÜber: Die neue Dunkelheit oder warum Licht nach Bedarf eigentlich selbstverständlich ist – vom Umweltschutz und 97% Energieeinsparung – Intelligente Beleuchtung mit Objekterkennung \nIm anschließenden Erfahrungsaustausch standen zahlreiche Herausforderungen im Vordergrund\, wie zum Beispiel: \n\n\nAngesprochen wurde das zu gering vorhandene private Risikokapital in unserer Region für technologieorientierte Startups\, insbesondere wenn es um die Erweiterung zum Industriemaßstab geht. Das ist eines der Themen\, deren sich das Netzwerk annehmen möchte: Wie schaffen wir es gemeinsam\, attraktive Rahmenbedingungen und auch Synergien zu schaffen? Wie bringen wir Investoren in die Region? Wie schaffen wir Transparenz über Finanzierungsmöglichkeiten für Startups? Fonds und privates Beteiligungskapital\, ähnlich wie die Rückversicherer\, bewegen sich hin zu nachhaltigen Investments\, nun unterstützt durch die Taxonomie für „Sustainable Finance“ der Europäischen Kommission. Das schafft neue Möglichkeiten. \n\n\nDie Notwendigkeit des Recyclings\, des Teilens und Energiesparens. Hier möchte das Netzwerk informieren\, Synergien schaffen und Kooperationen anstoßen. \n\n\nAußerschulische Lernorte haben insbesondere für finanziell schwächer gestellte Familien eine hohe Bedeutung. Wie können diese mit ihren fachübergreifenden und praktischen Bildungskonzepten befördert werden? Eine Möglichkeit wäre die stärkere Integration in die Didaktikausbildung von Lehrern und Erziehern. Hierzu soll ein Austausch angeregt werden. \n\nTrotz der landläufigen Meinung kann auch eine GmbH nachhaltige Geschäftszwecke durch ein angepasstes Leitbild stärken und ist nicht per se der Gewinnmaximierung verpflichtet\, wie Dr. Meister von teilAuto bestätigt. Andererseits würde die Befürchtung\, dass eine gewinnsenkende Berücksichtigung sozialer und ökologischer Aspekte die Geschäftsführung in Verruf bringen könnte\, sicherlich manche durchaus vorhandene positive Intention ausbremsen. Das Netzwerk plant daher\, innovative Betriebsformen zu sammeln und darüber zu informieren.\n\nDie Teilnehmerkonstellation war für die meisten einmalig\, dazu offen und wertschätzend. Die Rückmeldungen waren durchweg positiv. Eine Ausweitung wurde gewünscht\, Fortsetzung folgt!
URL:https://nachhaltig-wirtschaften-mitteldeutschland.de/startseite/event/workshop-innovationsmotor-nachhaltigkeit-wir-koennen-oekonomie-besser/
LOCATION:HWK Halle\, Gräfestr. 24\, Halle (Saale)\, 06110\, Deutschland
END:VEVENT
END:VCALENDAR