BEGIN:VCALENDAR
VERSION:2.0
PRODID:-//Netzwerk &quot;Nachhaltigkeit in der Wirtschaft&quot; - ECPv6.0.9//NONSGML v1.0//EN
CALSCALE:GREGORIAN
METHOD:PUBLISH
X-ORIGINAL-URL:https://nachhaltig-wirtschaften-mitteldeutschland.de/startseite
X-WR-CALDESC:Veranstaltungen für Netzwerk &quot;Nachhaltigkeit in der Wirtschaft&quot;
REFRESH-INTERVAL;VALUE=DURATION:PT1H
X-Robots-Tag:noindex
X-PUBLISHED-TTL:PT1H
BEGIN:VTIMEZONE
TZID:Europe/Berlin
BEGIN:DAYLIGHT
TZOFFSETFROM:+0100
TZOFFSETTO:+0200
TZNAME:CEST
DTSTART:20200329T010000
END:DAYLIGHT
BEGIN:STANDARD
TZOFFSETFROM:+0200
TZOFFSETTO:+0100
TZNAME:CET
DTSTART:20201025T010000
END:STANDARD
END:VTIMEZONE
BEGIN:VEVENT
DTSTART;TZID=Europe/Berlin:20200709T080000
DTEND;TZID=Europe/Berlin:20200709T170000
DTSTAMP:20260422T084325
CREATED:20200928T074331Z
LAST-MODIFIED:20200928T074331Z
UID:103-1594281600-1594314000@nachhaltig-wirtschaften-mitteldeutschland.de
SUMMARY:Workshop „Stadtwerke in 2050“
DESCRIPTION:Am 9. Juli 2020 imaginierten 20 Personen aus den Bereichen Stadtwerke und Energieversorgungsunternehmen\, Forschung\, gesellschaftliche Initiativen und kommunaler Verwaltung im Plenumsaal der IHK Halle-Dessau den Zeithorizont 2050 und „schauten“ auf die Energiewende – welche Hemmnisse wurden wie gemeistert\, um Klimaneutralität zu erreichen? Dieses so genannte „Back-Casting Format“ verdeutlichte den Teilnehmenden\, unter anderem\, den Transformationsbedarf im aktuellen EEG\, um die technisch machbaren Ansätze zur Sektorkopplung wirtschaftlich zu realisieren. Um das Potenzial der angewandten Forschung stärker zu nutzen\, vereinbarte man weitere Treffen\, um z.B. studentische Abschlussarbeiten\, aber auch Infrastruktur regionaler Hochschulstandorte stärker in den Dienst der Energiewende zu stellen.\nDie Inputvorträge werden auf Nachfrage beim Kernteam gern zur Verfügung gestellt und geben Einblicke in Rahmenbedingungen wie den EU Green Deal\, Forschungsprojekte und Erkenntnisse der Netzwerkpartner und stellen Infrastrukturen der Netzwerkpartner vor.
URL:https://nachhaltig-wirtschaften-mitteldeutschland.de/startseite/event/workshop-stadtwerke-in-2050/
LOCATION:IHK Halle\, Franckestraße 5\, Halle (Saale)\, 06110\, Deutschland
END:VEVENT
END:VCALENDAR