BEGIN:VCALENDAR
VERSION:2.0
PRODID:-//Netzwerk &quot;Nachhaltigkeit in der Wirtschaft&quot; - ECPv6.0.9//NONSGML v1.0//EN
CALSCALE:GREGORIAN
METHOD:PUBLISH
X-WR-CALNAME:Netzwerk &quot;Nachhaltigkeit in der Wirtschaft&quot;
X-ORIGINAL-URL:https://nachhaltig-wirtschaften-mitteldeutschland.de/startseite
X-WR-CALDESC:Veranstaltungen für Netzwerk &quot;Nachhaltigkeit in der Wirtschaft&quot;
REFRESH-INTERVAL;VALUE=DURATION:PT1H
X-Robots-Tag:noindex
X-PUBLISHED-TTL:PT1H
BEGIN:VTIMEZONE
TZID:Europe/Berlin
BEGIN:DAYLIGHT
TZOFFSETFROM:+0100
TZOFFSETTO:+0200
TZNAME:CEST
DTSTART:20210328T010000
END:DAYLIGHT
BEGIN:STANDARD
TZOFFSETFROM:+0200
TZOFFSETTO:+0100
TZNAME:CET
DTSTART:20211031T010000
END:STANDARD
END:VTIMEZONE
BEGIN:VEVENT
DTSTART;TZID=Europe/Berlin:20210311T130000
DTEND;TZID=Europe/Berlin:20210311T150000
DTSTAMP:20260421T234437
CREATED:20210218T160919Z
LAST-MODIFIED:20210224T151208Z
UID:599-1615467600-1615474800@nachhaltig-wirtschaften-mitteldeutschland.de
SUMMARY:Steigerung der Biodiversität in der Landschaft
DESCRIPTION:Das Netzwerk „Nachhaltigkeit in der Wirtschaft“ in Mitteldeutschland &#8211; bestehend aus Multiplikatoren aus Wirtschaft\, Wissenschaft\, Verwaltung und Zivilgesellschaft &#8211; bildet eine neutrale Informations- und Diskussionsplattform\, um Interessenten verschiedener Bereiche für neue\, nachhaltige Lösungsansätze zusammenzubringen. \nWeil die Biodiversität eine wichtige Grundlage für stabile Ökosysteme und deren lebenswichtigen Dienstleistungen ist\, planen wir einen Innovationsworkshop zum Thema „Steigerung der Biodiversität in der Landschaft“. Insbesondere die trockenen Sommer der vergangenen Jahre zeigen auf\, wie gefährdet der Boden\, die Insektenvielfalt\, Bäume und die Nahrungs-/Futtermittelproduktion in unserer Region sind\, um nur einige Beispiele zu nennen. \nWir möchten dazu gern Vertreter verschiedener Bereiche der landwirtschaftlichen Wertschöpfungskette an einen Tisch holen\, natürlich digital. Einladen möchten wir Landwirte\, Lebensmittelhersteller\, den Handel\, Flächeneigentümer sowie Vertreter aus Wissenschaft\, Verwaltung und Zivilgesellschaft. Wenn aus Ihrer Sicht noch ein wichtiger Stakeholder fehlt\, sagen Sie uns Bescheid. Unsere Leitfrage ist: Was kann getan werden\, um Biodiversität zu fördern und allen Interessensgruppen ein gutes Auskommen zu sichern? \nZiel ist die Etablierung einer Workshopreihe\, um praktikable Ansätze zur Steigerung der Biodiversität herauszuarbeiten und zur Umsetzung zu bringen. \nAnmeldungen bitte bei Dr. Sophie Kühling (skuehling@halle.ihk.de). Der Link zur Webex-Konferenz wird 1-2 Tage vorher an die Teilnehmer versendet. \nTagesordnung-Biodiversität in der Landschaft
URL:https://nachhaltig-wirtschaften-mitteldeutschland.de/startseite/event/steigerung-der-biodiversitaet-in-der-landschaft/
LOCATION:Online
END:VEVENT
END:VCALENDAR