BEGIN:VCALENDAR
VERSION:2.0
PRODID:-//Netzwerk &quot;Nachhaltigkeit in der Wirtschaft&quot; - ECPv6.0.9//NONSGML v1.0//EN
CALSCALE:GREGORIAN
METHOD:PUBLISH
X-WR-CALNAME:Netzwerk &quot;Nachhaltigkeit in der Wirtschaft&quot;
X-ORIGINAL-URL:https://nachhaltig-wirtschaften-mitteldeutschland.de/startseite
X-WR-CALDESC:Veranstaltungen für Netzwerk &quot;Nachhaltigkeit in der Wirtschaft&quot;
REFRESH-INTERVAL;VALUE=DURATION:PT1H
X-Robots-Tag:noindex
X-PUBLISHED-TTL:PT1H
BEGIN:VTIMEZONE
TZID:Europe/Berlin
BEGIN:DAYLIGHT
TZOFFSETFROM:+0100
TZOFFSETTO:+0200
TZNAME:CEST
DTSTART:20200329T010000
END:DAYLIGHT
BEGIN:STANDARD
TZOFFSETFROM:+0200
TZOFFSETTO:+0100
TZNAME:CET
DTSTART:20201025T010000
END:STANDARD
END:VTIMEZONE
BEGIN:VEVENT
DTSTART;TZID=Europe/Berlin:20201105T140000
DTEND;TZID=Europe/Berlin:20201105T170000
DTSTAMP:20260422T043701
CREATED:20200928T073706Z
LAST-MODIFIED:20210216T132940Z
UID:97-1604584800-1604595600@nachhaltig-wirtschaften-mitteldeutschland.de
SUMMARY:2. Netzwerktreffen
DESCRIPTION:2. Netzwerktreffen Tagesordnung \nRückblick: Das 2. Netzwerktreffen fand zwar anders als geplant ausschließlich Online statt\, nichtsdesto trotz wurde rege diskutiert und neue Ideen gesammelt. Die MakeScienceHalle\, Deutschlands erstes Bürgerforschungsschiff\, wurde von Frau Ilka Bickmann vorgestellt: als schwimmende Lehr-Lern-Plattform zum derzeitigen Schwerpunktthema „Blauen Bioökonomie&#8220;. Herr Dr. Ralf Weiß gab einen spannenden Einblick in das Netzwerk &#8222;Nachhaltigkeit in Kunst und Kultur&#8220;\, aktiv in Deutschland und der Schweiz. Zum gegenseitigen Kennenlernen wurden zwei Runden in zufälligen 2er Gruppen durchgeführt\, die auf durchweg positive Resonanz stieß. Allerdings mit der Bitte nach mehr Zeit. Gewünscht wurde außerdem\, dass die Netzwerktreffen regelmäßig vierteljährlich als Online-Veranstaltung stattfinden sollen. Das spart Zeit und Weg.
URL:https://nachhaltig-wirtschaften-mitteldeutschland.de/startseite/event/2-netzwerktreffen/
LOCATION:Bürgerforschungsschiff MS-halle.science\, Seebener Str. 1\, Halle (Saale)\, 06114\, Deutschland
END:VEVENT
END:VCALENDAR