BEGIN:VCALENDAR
VERSION:2.0
PRODID:-//Netzwerk &quot;Nachhaltigkeit in der Wirtschaft&quot; - ECPv6.0.9//NONSGML v1.0//EN
CALSCALE:GREGORIAN
METHOD:PUBLISH
X-WR-CALNAME:Netzwerk &quot;Nachhaltigkeit in der Wirtschaft&quot;
X-ORIGINAL-URL:https://nachhaltig-wirtschaften-mitteldeutschland.de/startseite
X-WR-CALDESC:Veranstaltungen für Netzwerk &quot;Nachhaltigkeit in der Wirtschaft&quot;
REFRESH-INTERVAL;VALUE=DURATION:PT1H
X-Robots-Tag:noindex
X-PUBLISHED-TTL:PT1H
BEGIN:VTIMEZONE
TZID:Europe/Berlin
BEGIN:DAYLIGHT
TZOFFSETFROM:+0100
TZOFFSETTO:+0200
TZNAME:CEST
DTSTART:20200329T010000
END:DAYLIGHT
BEGIN:STANDARD
TZOFFSETFROM:+0200
TZOFFSETTO:+0100
TZNAME:CET
DTSTART:20201025T010000
END:STANDARD
END:VTIMEZONE
BEGIN:VEVENT
DTSTART;TZID=Europe/Berlin:20200227T100000
DTEND;TZID=Europe/Berlin:20200227T120000
DTSTAMP:20260422T155424
CREATED:20200928T074554Z
LAST-MODIFIED:20210316T123433Z
UID:106-1582797600-1582804800@nachhaltig-wirtschaften-mitteldeutschland.de
SUMMARY:1. Netzwerktreffen
DESCRIPTION:34 Personen aus Wirtschaft\, Wissenschaft\, Verwaltung und zivilem Engagement nahmen am 1. Netzwerktreffen „Nachhaltigkeit in der Wirtschaft“ teil. Nach einer Kurzvorstellung aller TeilnehmerInnen wurde deutlich\, dass zwar zum einen schon viele Initiativen vorhanden\, der Austausch aber bisher kaum stattfand. Fazit der Veranstaltung war\, dass eine bereichsübergreifende Zusammenarbeit im Netzwerk „Nachhaltigkeit in der Wirtschaft“ gewünscht wird. Das Thema bietet große Chancen für die regionale Wirtschaft und das Gemeinwohl. \nUnser Dank gilt allen ReferentInnen\, die zum Gelingen des ersten Treffens beigetragen haben: \n\nDr. Sophie Kühling\, IHK Halle-Dessau: Vorstellung und Ideen des Netzwerkes\nDr. rer. pol. Barbara Castrellon Gutierrez\, Martin-Luther-Universität Halle-Wittenberg: Impuls: Nachhaltigkeit und KMU – passt das zusammen?\nPatrice Heine\, Geschäftsführer ChemiePark Bitterfeld-Wolfen GmbH: Praxisbeispiel ChemiePark Bitterfeld-Wolfen GmbH\nGerhild Fischer\, Inhaberin BioBäckerei\, Wettin-Löbejün: Praxisbeispiel BioBäckerei\nDr. Thorsten Lambertus\, Fraunhofer Zentralverwaltung\, München: Fraunhofer Aktivitäten und Ansätze zum Thema Nachhaltigkeit
URL:https://nachhaltig-wirtschaften-mitteldeutschland.de/startseite/event/1-netzwerktreffen/
LOCATION:Fraunhofer-Institut für Mikrostruktur von Werkstoffen und Systemen IMWS in Halle\, Walter-Hülse-Straße 1\, Halle (Saale)\, 06120\, Deutschland
END:VEVENT
END:VCALENDAR